BEGIN:VCALENDAR
VERSION:2.0
PRODID:-//BAKA - ECPv5.12.3//NONSGML v1.0//EN
CALSCALE:GREGORIAN
METHOD:PUBLISH
X-WR-CALNAME:BAKA
X-ORIGINAL-URL:https://www.bakaberlin.de
X-WR-CALDESC:Events for BAKA
REFRESH-INTERVAL;VALUE=DURATION:PT1H
X-Robots-Tag:noindex
X-PUBLISHED-TTL:PT1H
BEGIN:VTIMEZONE
TZID:Europe/Berlin
BEGIN:DAYLIGHT
TZOFFSETFROM:+0100
TZOFFSETTO:+0200
TZNAME:CEST
DTSTART:20240331T010000
END:DAYLIGHT
BEGIN:STANDARD
TZOFFSETFROM:+0200
TZOFFSETTO:+0100
TZNAME:CET
DTSTART:20241027T010000
END:STANDARD
END:VTIMEZONE
BEGIN:VEVENT
DTSTART;TZID=Europe/Berlin:20240627T133000
DTEND;TZID=Europe/Berlin:20240627T193000
DTSTAMP:20260424T120550
CREATED:20240711T133620Z
LAST-MODIFIED:20240711T133620Z
UID:15611-1719495000-1719516600@www.bakaberlin.de
SUMMARY:Luft & Licht . Fenster-Fassade-Ausbau . Ökologisch & Nachhaltig
DESCRIPTION:Web-Seminar – modulare Fortbildung\nBelichtung und Belüftung von Wohnräumen richtig planen\, Wärmebrücken erkennen und optimal lösen\, Qualitätsanforderungen für Fenster in der Gebäudehülle mit und ohne Gebäudetechnik\, die wichtigsten Kriterien für ein Bauen ohne Wärmebrücken. \nModule:\n#H+T #ZA #R #P+I #D+E \nReferenten:\nOliver Beege\, Robert Leinert\, Christina Meuser\, Stephan Schreck\, Oliver Solcher\, Wilfried Walther\, Ulrich Zink \nAnerkennung:\nEEE-Liste\, WTA\, Architekten-u. Ing.-Kammern
URL:https://www.bakaberlin.de/veranstaltung/luft-licht-fenster-fassade-ausbau-oekologisch-nachhaltig/
LOCATION:Online
CATEGORIES:Fachseminar
ATTACH;FMTTYPE=image/png:https://www.bakaberlin.de/wp-content/uploads/2022/04/Kurs-3-Titel-211027.png
END:VEVENT
END:VCALENDAR