BEGIN:VCALENDAR
VERSION:2.0
PRODID:-//BAKA - ECPv5.12.3//NONSGML v1.0//EN
CALSCALE:GREGORIAN
METHOD:PUBLISH
X-WR-CALNAME:BAKA
X-ORIGINAL-URL:https://www.bakaberlin.de
X-WR-CALDESC:Events for BAKA
REFRESH-INTERVAL;VALUE=DURATION:PT1H
X-Robots-Tag:noindex
X-PUBLISHED-TTL:PT1H
BEGIN:VTIMEZONE
TZID:Europe/Berlin
BEGIN:DAYLIGHT
TZOFFSETFROM:+0100
TZOFFSETTO:+0200
TZNAME:CEST
DTSTART:20240331T010000
END:DAYLIGHT
BEGIN:STANDARD
TZOFFSETFROM:+0200
TZOFFSETTO:+0100
TZNAME:CET
DTSTART:20241027T010000
END:STANDARD
END:VTIMEZONE
BEGIN:VEVENT
DTSTART;TZID=Europe/Berlin:20240222T130000
DTEND;TZID=Europe/Berlin:20240222T193000
DTSTAMP:20260424T120540
CREATED:20230928T115324Z
LAST-MODIFIED:20230928T120038Z
UID:14768-1708606800-1708630200@www.bakaberlin.de
SUMMARY:Ökobilanz - Lebenszyklus - Graue Energie
DESCRIPTION:Web-Seminar – modulare Fortbildung\nÖkologischen Potentiale von Bestandsgebäuden und wie sie im Vergleich zum Neubau genutzt werden können. Woher kommen die Daten für die EPD\, die dafür wichtig sind? Was ist GWP und welche Auswirkungen hat es auf die Ökobilanzierung\, den Lebenszyklus und damit auf die Graue Energie.\nInhalte: Berechnungsmethoden\, Zertifizierungssysteme\, QNG\, Lebenszyklusdaten\, Umweltproduktdeklaration: Aufbau\, Inhalt & Verwendung\, Ökologische Aspekte in der Nachhaltigkeitsbewertung und Zertifizierung\, u.a. \nReferent:innen: Laura Kästner\, Klara Meier\, Hans R. Peters\, Susanne Runkel\, Ulrich Zink \nAnerkennung:\nEEE-Liste\, WTA\, Architekten-u. Ing.-Kammern
URL:https://www.bakaberlin.de/veranstaltung/oekobilanz-lebenszyklus-graue-energie-3/
LOCATION:Online
CATEGORIES:Fachseminar
ATTACH;FMTTYPE=image/png:https://www.bakaberlin.de/wp-content/uploads/2023/09/Kurs-6-Titel-e1695898044637.png
END:VEVENT
END:VCALENDAR