BEGIN:VCALENDAR
VERSION:2.0
PRODID:-//BAKA - ECPv5.12.3//NONSGML v1.0//EN
CALSCALE:GREGORIAN
METHOD:PUBLISH
X-WR-CALNAME:BAKA
X-ORIGINAL-URL:https://www.bakaberlin.de
X-WR-CALDESC:Events for BAKA
REFRESH-INTERVAL;VALUE=DURATION:PT1H
X-Robots-Tag:noindex
X-PUBLISHED-TTL:PT1H
BEGIN:VTIMEZONE
TZID:Europe/Berlin
BEGIN:DAYLIGHT
TZOFFSETFROM:+0100
TZOFFSETTO:+0200
TZNAME:CEST
DTSTART:20240331T010000
END:DAYLIGHT
BEGIN:STANDARD
TZOFFSETFROM:+0200
TZOFFSETTO:+0100
TZNAME:CET
DTSTART:20241027T010000
END:STANDARD
END:VTIMEZONE
BEGIN:VEVENT
DTSTART;VALUE=DATE:20240131
DTEND;VALUE=DATE:20240205
DTSTAMP:20260424T104226
CREATED:20231221T102325Z
LAST-MODIFIED:20231221T103702Z
UID:14900-1706659200-1707091199@www.bakaberlin.de
SUMMARY:B.I.G. Hannover
DESCRIPTION:  \nNorddeutschlands größte Bau- und Gartenmesse und der moderne Ratgeber rund um die Themen Bauplanung\, Sanierung\, Sicherheit\, Immobilien\, Finanzierung\, Wohnen\, Einrichten\, Garten und schöner Leben
URL:https://www.bakaberlin.de/veranstaltung/b-i-g-hannover/
LOCATION:Hannover\, Deutschland
CATEGORIES:Messe
ATTACH;FMTTYPE=image/jpeg:https://www.bakaberlin.de/wp-content/uploads/2022/06/big2018-logo-4c_thumbnail_retina.jpg
END:VEVENT
END:VCALENDAR